BEGIN:VCALENDAR
VERSION:2.0
PRODID:-//Eventin//Event Calendar//EN
CALSCALE:GREGORIAN
METHOD:PUBLISH
BEGIN:VEVENT
UID:94cec4a1cc9ccc2506480e6fc9449413@williamwilson.nl
SUMMARY:Workshop Systemisch Werk – Juni
DESCRIPTION:Dit is de aanmelding als vragensteller voor een dag familie ops
 tellingen. Je komt met je eigen vraag en er ontvouwt zich een familie opste
 lling waarin je wezenlijke inzichten\, diepe ervaringen en een ontwikkeltaa
 k ophaalt. Daarnaast ben je als representant uitgenodigd deel te nemen in a
 ndere opstellingen.\n[LEES VERDER]
LOCATION:Holoshuis te Utrecht
DTSTAMP:20260419T120926Z
DTSTART:20260603T080000Z
DTEND:20260603T150000Z
END:VEVENT
END:VCALENDAR
