BEGIN:VCALENDAR
VERSION:2.0
PRODID:-//Eventin//Event Calendar//EN
CALSCALE:GREGORIAN
METHOD:PUBLISH
BEGIN:VEVENT
UID:5dee07fbab6766420c30998524b0a98a@williamwilson.nl
SUMMARY:SoulRetreat (Basic) – Nov 2026
DESCRIPTION:Tijdens de Basic SoulRetreat duiken jullie als koppel samen in 
 een intensief maar veilig avontuur. We richten ons op de kwetsbaarheid van 
 intimiteit en de kracht van levenslust binnen jullie relatie. Je ervaart ee
 n diepe(re) verbinding met jeZelf en je partner door een unieke combinatie 
 van Systemisch Werk\, Lichaamswerk en Sexual Grounding.\n[LEES VERDER]
LOCATION:'t Zonnehuis te Loenen
DTSTAMP:20260421T135723Z
DTSTART:20261126T090000Z
DTEND:20261128T150000Z
END:VEVENT
END:VCALENDAR
